BEGIN:VCALENDAR
VERSION:2.0
PRODID:-//American Legion Post 248, Blue Ridge, Ga - ECPv6.15.20//NONSGML v1.0//EN
CALSCALE:GREGORIAN
METHOD:PUBLISH
X-WR-CALNAME:American Legion Post 248, Blue Ridge, Ga
X-ORIGINAL-URL:https://galegionpost248.org
X-WR-CALDESC:Events for American Legion Post 248, Blue Ridge, Ga
REFRESH-INTERVAL;VALUE=DURATION:PT1H
X-Robots-Tag:noindex
X-PUBLISHED-TTL:PT1H
BEGIN:VTIMEZONE
TZID:UTC
BEGIN:STANDARD
TZOFFSETFROM:+0000
TZOFFSETTO:+0000
TZNAME:UTC
DTSTART:20230101T000000
END:STANDARD
END:VTIMEZONE
BEGIN:VEVENT
DTSTART;TZID=UTC:20251108T120000
DTEND;TZID=UTC:20251108T153000
DTSTAMP:20260421T112312
CREATED:20251007T151220Z
LAST-MODIFIED:20251007T152934Z
UID:57984-1762603200-1762615800@galegionpost248.org
SUMMARY:Veterans Day Celebration
DESCRIPTION:[vc_row][vc_column][vc_column_text css=””][/vc_column_text][/vc_column][/vc_row]
URL:https://galegionpost248.org/event/veterans-day-celebration/
LOCATION:Veterans Memorial Park\, 4560 Old Hwy 76\, Blue Ridge\, Ga\, 30513
CATEGORIES:Social Event
ATTACH;FMTTYPE=image/jpeg:https://galegionpost248.org/wp-content/uploads/2025/10/Veterans-Day-Poster.jpg
END:VEVENT
BEGIN:VEVENT
DTSTART;VALUE=DATE:20250801
DTEND;VALUE=DATE:20250802
DTSTAMP:20260421T112312
CREATED:20250801T153951Z
LAST-MODIFIED:20250801T153951Z
UID:57945-1754006400-1754092799@galegionpost248.org
SUMMARY:Veterans Day
DESCRIPTION:Vets Day parade\, Vets Day ceremony at the Vets memorial Park and cookout of Veterans Conference Center.
URL:https://galegionpost248.org/event/veterans-day/
LOCATION:Ga
CATEGORIES:Parades,Promote Vets,Social Event
ATTACH;FMTTYPE=image/jpeg:https://galegionpost248.org/wp-content/uploads/2025/08/Vets-Parade.jpg
END:VEVENT
BEGIN:VEVENT
DTSTART;TZID=UTC:20250706T080000
DTEND;TZID=UTC:20250706T123000
DTSTAMP:20260421T112312
CREATED:20250620T140415Z
LAST-MODIFIED:20250620T164309Z
UID:57931-1751788800-1751805000@galegionpost248.org
SUMMARY:American Legion Fundraiser Breakfast
DESCRIPTION:[vc_row][vc_column][vc_column_text css=””]Please help us with our building fund and to continue helping veterans in our community. \n[/vc_column_text][/vc_column][/vc_row][vc_row][vc_column width=”1/4″][vc_single_image image=”57935″ img_size=”full” alignment=”center” css=””][/vc_column][vc_column width=”3/4″][vc_column_text css=”.vc_custom_1750437786568{padding-top: 40px !important;padding-left: 10px !important;}”]Click on the QR code to the left to pay for your breakfast.[/vc_column_text][/vc_column][/vc_row]
URL:https://galegionpost248.org/event/american-legion-fundraiser-breakfast/
LOCATION:Misty Mountain Hops\, 3300 E 1st St.\, Blue Ridge\, Ga\, 30513
CATEGORIES:Social Event
END:VEVENT
BEGIN:VEVENT
DTSTART;TZID=UTC:20250427T090000
DTEND;TZID=UTC:20250427T130000
DTSTAMP:20260421T112312
CREATED:20250207T180952Z
LAST-MODIFIED:20250407T162328Z
UID:57793-1745744400-1745758800@galegionpost248.org
SUMMARY:Pancake Breakfast Fundraiser
DESCRIPTION:s[vc_row][vc_column][vc_column_text css=””] \nHelp us raise funds for out county Veterans Memorial Park and to continue helping Veterans in our community.\n\n[/vc_column_text][/vc_column][/vc_row]
URL:https://galegionpost248.org/event/pancake-breakfast-fundraiser/
LOCATION:Misty Mountain Hops\, 3300 E 1st St.\, Blue Ridge\, Ga\, 30513
CATEGORIES:Social Event
ATTACH;FMTTYPE=image/jpeg:https://galegionpost248.org/wp-content/uploads/2025/02/Blue-and-Red-Campaign-Flyer-Revised.jpg
END:VEVENT
BEGIN:VEVENT
DTSTART;VALUE=DATE:20250412
DTEND;VALUE=DATE:20250413
DTSTAMP:20260421T112312
CREATED:20250207T180645Z
LAST-MODIFIED:20250207T180713Z
UID:57788-1744416000-1744502399@galegionpost248.org
SUMMARY:Ride the Ridge
DESCRIPTION:[vc_row][vc_column][vc_column_text css=””]Major fundraiser for shop with a cop. Breakfast at 8am following four-wheel drive on the trails at 9am. Any questions\, contact Commander Callendar.[/vc_column_text][/vc_column][/vc_row]
URL:https://galegionpost248.org/event/ride-the-ridge/
LOCATION:Ga
CATEGORIES:Social Event
END:VEVENT
BEGIN:VEVENT
DTSTART;TZID=UTC:20240526T180000
DTEND;TZID=UTC:20240526T190000
DTSTAMP:20260421T112312
CREATED:20240503T224753Z
LAST-MODIFIED:20240504T152935Z
UID:57629-1716746400-1716750000@galegionpost248.org
SUMMARY:Salute to America Concert Remembering our Veterans and First Responders
DESCRIPTION:[vc_row][vc_column][vc_column_text css=””]Featuring The Tri State Community Band and Singers of North Georgia with guests soloists \nA free-will donation will be collected[/vc_column_text][/vc_column][/vc_row][vc_row][vc_column][vc_column_text css=””] \nNorth Georgia Veterans Assistance Foundation Inc.\n[/vc_column_text][/vc_column][/vc_row]
URL:https://galegionpost248.org/event/salute-to-america-concert-remembering-our-veterans-and-first-responders/
LOCATION:Fannin High School\, 360 Rebel Circle\, Blue RIdge\, GA\, 30513\, United States
CATEGORIES:Social Event
ATTACH;FMTTYPE=image/jpeg:https://galegionpost248.org/wp-content/uploads/2024/05/Verterans-Assistance.jpg
END:VEVENT
END:VCALENDAR